BEGIN:VCALENDAR
VERSION:2.0
PRODID:-//Beale Air Force Base - ECPv6.15.20//NONSGML v1.0//EN
CALSCALE:GREGORIAN
METHOD:PUBLISH
X-WR-CALNAME:Beale Air Force Base
X-ORIGINAL-URL:https://bealefss.com
X-WR-CALDESC:Events for Beale Air Force Base
REFRESH-INTERVAL;VALUE=DURATION:PT1H
X-Robots-Tag:noindex
X-PUBLISHED-TTL:PT1H
BEGIN:VTIMEZONE
TZID:America/Denver
BEGIN:DAYLIGHT
TZOFFSETFROM:-0700
TZOFFSETTO:-0600
TZNAME:MDT
DTSTART:20250309T090000
END:DAYLIGHT
BEGIN:STANDARD
TZOFFSETFROM:-0600
TZOFFSETTO:-0700
TZNAME:MST
DTSTART:20251102T080000
END:STANDARD
BEGIN:DAYLIGHT
TZOFFSETFROM:-0700
TZOFFSETTO:-0600
TZNAME:MDT
DTSTART:20260308T090000
END:DAYLIGHT
BEGIN:STANDARD
TZOFFSETFROM:-0600
TZOFFSETTO:-0700
TZNAME:MST
DTSTART:20261101T080000
END:STANDARD
BEGIN:DAYLIGHT
TZOFFSETFROM:-0700
TZOFFSETTO:-0600
TZNAME:MDT
DTSTART:20270314T090000
END:DAYLIGHT
BEGIN:STANDARD
TZOFFSETFROM:-0600
TZOFFSETTO:-0700
TZNAME:MST
DTSTART:20271107T080000
END:STANDARD
END:VTIMEZONE
BEGIN:VEVENT
DTSTART;VALUE=DATE:20260401
DTEND;VALUE=DATE:20260501
DTSTAMP:20260421T052046
CREATED:20260325T204535Z
LAST-MODIFIED:20260325T204535Z
UID:10002503-1775001600-1777593599@bealefss.com
SUMMARY:Pixel Art Challenge for ALL  
DESCRIPTION:Pixel Art Challenge for ALL  \nAll Month \nCelebrate spring\, we will be featuring another AGES. Come in and add your pixels until Eric Carl’s famous\, The Very Hungry Caterpillar emerges.
URL:https://bealefss.com/event/pixel-art-challenge-for-all/
LOCATION:Hub Zemke Library\, 17849 16th St. Beale AFB\, CA 95903
CATEGORIES:Hub Zemke Library
ATTACH;FMTTYPE=image/jpeg:https://bealefss.com/wp-content/uploads/2026/03/1080x1080-Library-April-scaled.jpg
END:VEVENT
BEGIN:VEVENT
DTSTART;VALUE=DATE:20260401
DTEND;VALUE=DATE:20260501
DTSTAMP:20260421T052046
CREATED:20260325T204726Z
LAST-MODIFIED:20260325T204726Z
UID:10002504-1775001600-1777593599@bealefss.com
SUMMARY:Capybara Monthly Craft Bag 
DESCRIPTION:Capybara Monthly Craft Bag \nAll Month \nGet a craft Bag featuring a Capybara craft and capybara reading suggestions. (while supplies last)
URL:https://bealefss.com/event/capybara-monthly-craft-bag/
LOCATION:Hub Zemke Library\, 17849 16th St. Beale AFB\, CA 95903
CATEGORIES:Hub Zemke Library
ATTACH;FMTTYPE=image/jpeg:https://bealefss.com/wp-content/uploads/2026/03/1080x1080-Library-April-scaled.jpg
END:VEVENT
BEGIN:VEVENT
DTSTART;TZID=America/Denver:20260424T160000
DTEND;TZID=America/Denver:20260424T180000
DTSTAMP:20260421T052046
CREATED:20260413T155710Z
LAST-MODIFIED:20260413T155710Z
UID:10002521-1777046400-1777053600@bealefss.com
SUMMARY:Day for Kids 2026
DESCRIPTION:Day for Kids 2026\nApril 24\, 4-6pm\nCommunity Center\n\nGet ready for an afternoon of non-stop fun! We’re celebrating our youngest heroes at the Community Center with a festival packed with excitement. From animals to engines\, there is something for every explorer! \n\n\nWhether they want to see the animals or see what it’s like to “deploy” like Mom or Dad\, it’s going to be a spectacular day. Don’t miss out!
URL:https://bealefss.com/event/day-for-kids-2026/
LOCATION:Community Center\, 17651 Warren Shingle Rd\, Beale AFB\, CA 95903
CATEGORIES:Community Center
ATTACH;FMTTYPE=image/jpeg:https://bealefss.com/wp-content/uploads/2026/03/1080x1080-Day-For-Kids-April-scaled.jpg
END:VEVENT
BEGIN:VEVENT
DTSTART;VALUE=DATE:20260425
DTEND;VALUE=DATE:20260426
DTSTAMP:20260421T052046
CREATED:20260325T204257Z
LAST-MODIFIED:20260325T221324Z
UID:10002520-1777075200-1777161599@bealefss.com
SUMMARY:Loud/D&D Saturdays
DESCRIPTION:D&D Saturdays\nEvery Saturday enjoy Dungeons & Dragons gaming from 9:30 to 1:30. For teens and adults. \nLoud Saturdays\nEvery Saturday is Loud Saturday with giant games\, a Mario Hot Wheels racetrack\, magnetic tiles\, and a Lego table with thousands of Lego pieces.
URL:https://bealefss.com/event/loud-dd-saturdays/2026-04-25/
LOCATION:Hub Zemke Library\, 17849 16th St. Beale AFB\, CA 95903
CATEGORIES:Hub Zemke Library
ATTACH;FMTTYPE=image/jpeg:https://bealefss.com/wp-content/uploads/2026/03/1080x1080-Library-April-scaled.jpg
END:VEVENT
BEGIN:VEVENT
DTSTART;TZID=America/Denver:20260425T090000
DTEND;TZID=America/Denver:20260425T190000
DTSTAMP:20260421T052046
CREATED:20260325T211119Z
LAST-MODIFIED:20260325T211119Z
UID:10002511-1777107600-1777143600@bealefss.com
SUMMARY:Point Reyes 
DESCRIPTION:Point Reyes\nApr 25\, 9:00am – 7:00pm\n$25\nSign-up Deadline: April 21st\nBeale OAC \nEscape the bustle as we head to Point Reyes National Seashore for a day outside at the coast!
URL:https://bealefss.com/event/point-reyes/
LOCATION:Outdoor Adventure Center\, 17630 Doolittle Dr. Beale AFB\, CA 95903
CATEGORIES:Outdoor Adventure Center
ATTACH;FMTTYPE=image/jpeg:https://bealefss.com/wp-content/uploads/2026/03/1080x1080-ODR-April-03-scaled.jpg
END:VEVENT
BEGIN:VEVENT
DTSTART;TZID=America/Denver:20260502T080000
DTEND;TZID=America/Denver:20260502T180000
DTSTAMP:20260421T052046
CREATED:20260325T211526Z
LAST-MODIFIED:20260325T211526Z
UID:10002512-1777708800-1777744800@bealefss.com
SUMMARY:Palisades Tahoe Aerial Tram
DESCRIPTION:Palisades Tahoe Aerial Tram\nMay 2\, 8 AM – 6 PM \nSign up deadline: April 27th \nTickets: $60 \nTrip Includes: Transportation\, Parking\, Palisades Tahoe Aerial Tram Sightseeing Pass  \nJoin The Beale ITT Department for an exciting winter excursion to the Palisades Tahoe Winter Resort! Home of the 1960’s winter Olympics\, Palisades Tahoe is renowned for it’s stunning mountainous vistas and winter landscapes. This is something the excursion will be taking full advantage of with an all day Sightseeing pass\, allowing trip goers full access to the resorts Aerial Trams and lifts\, and the high altitude viewing areas and facilities at the resort.
URL:https://bealefss.com/event/palisades-tahoe-aerial-tram/
LOCATION:Information\, Tickets & Travel Office\, 17630 Doolittle Dr. Beale AFB\, CA 95903
CATEGORIES:ITT
ATTACH;FMTTYPE=image/jpeg:https://bealefss.com/wp-content/uploads/2026/03/1080x1080-ODR-April-04-scaled.jpg
END:VEVENT
END:VCALENDAR