BEGIN:VCALENDAR
VERSION:2.0
PRODID:-//Beale Air Force Base - ECPv6.15.20//NONSGML v1.0//EN
CALSCALE:GREGORIAN
METHOD:PUBLISH
X-WR-CALNAME:Beale Air Force Base
X-ORIGINAL-URL:https://bealefss.com
X-WR-CALDESC:Events for Beale Air Force Base
REFRESH-INTERVAL;VALUE=DURATION:PT1H
X-Robots-Tag:noindex
X-PUBLISHED-TTL:PT1H
BEGIN:VTIMEZONE
TZID:America/Denver
BEGIN:DAYLIGHT
TZOFFSETFROM:-0700
TZOFFSETTO:-0600
TZNAME:MDT
DTSTART:20250309T090000
END:DAYLIGHT
BEGIN:STANDARD
TZOFFSETFROM:-0600
TZOFFSETTO:-0700
TZNAME:MST
DTSTART:20251102T080000
END:STANDARD
BEGIN:DAYLIGHT
TZOFFSETFROM:-0700
TZOFFSETTO:-0600
TZNAME:MDT
DTSTART:20260308T090000
END:DAYLIGHT
BEGIN:STANDARD
TZOFFSETFROM:-0600
TZOFFSETTO:-0700
TZNAME:MST
DTSTART:20261101T080000
END:STANDARD
BEGIN:DAYLIGHT
TZOFFSETFROM:-0700
TZOFFSETTO:-0600
TZNAME:MDT
DTSTART:20270314T090000
END:DAYLIGHT
BEGIN:STANDARD
TZOFFSETFROM:-0600
TZOFFSETTO:-0700
TZNAME:MST
DTSTART:20271107T080000
END:STANDARD
END:VTIMEZONE
BEGIN:VEVENT
DTSTART;TZID=America/Denver:20260606T090000
DTEND;TZID=America/Denver:20260606T140000
DTSTAMP:20260425T165745
CREATED:20260423T171029Z
LAST-MODIFIED:20260423T171029Z
UID:10002529-1780736400-1780754400@bealefss.com
SUMMARY:Englebright Paddle Day
DESCRIPTION:Englebright Paddle Day\nJune 6\n9 AM – 2 PM\n$25\nSign-up Deadline: June 2\nOutdoor Recreation\nHop on a Paddle Board or Kayak on beautiful Lake Englebright.
URL:https://bealefss.com/event/englebright-paddle-day/
LOCATION:Outdoor Adventure Center\, 17630 Doolittle Dr. Beale AFB\, CA 95903
ATTACH;FMTTYPE=image/jpeg:https://bealefss.com/wp-content/uploads/2026/04/1080x1080-ODR-May-2.jpg
END:VEVENT
END:VCALENDAR